BEGIN:VCALENDAR
VERSION:2.0
PRODID:-//Crown of Life - ECPv5.12.2//NONSGML v1.0//EN
CALSCALE:GREGORIAN
METHOD:PUBLISH
X-WR-CALNAME:Crown of Life
X-ORIGINAL-URL:https://rigbychurch.com
X-WR-CALDESC:Events for Crown of Life
BEGIN:VTIMEZONE
TZID:America/Boise
BEGIN:DAYLIGHT
TZOFFSETFROM:-0700
TZOFFSETTO:-0600
TZNAME:MDT
DTSTART:20190310T090000
END:DAYLIGHT
BEGIN:STANDARD
TZOFFSETFROM:-0600
TZOFFSETTO:-0700
TZNAME:MST
DTSTART:20191103T080000
END:STANDARD
END:VTIMEZONE
BEGIN:VEVENT
DTSTART;TZID=America/Boise:20190519T110000
DTEND;TZID=America/Boise:20190519T120000
DTSTAMP:20260419T211806
CREATED:20190506T015518Z
LAST-MODIFIED:20190506T015518Z
UID:26225-1558263600-1558267200@rigbychurch.com
SUMMARY:Worship
DESCRIPTION:Jesus and Me Jammin’ Time (Kids’ program during sermon)\nConfirmation Class following worship
URL:https://rigbychurch.com/event/worship-3/
LOCATION:Worship Center\, 3856 E 300 N\, Rigby\, ID\, 83442\, United States
CATEGORIES:Church
END:VEVENT
END:VCALENDAR