BEGIN:VCALENDAR
VERSION:2.0
PRODID:-//Crown of Life - ECPv5.12.2//NONSGML v1.0//EN
CALSCALE:GREGORIAN
METHOD:PUBLISH
X-WR-CALNAME:Crown of Life
X-ORIGINAL-URL:https://rigbychurch.com
X-WR-CALDESC:Events for Crown of Life
BEGIN:VTIMEZONE
TZID:UTC
BEGIN:STANDARD
TZOFFSETFROM:+0000
TZOFFSETTO:+0000
TZNAME:UTC
DTSTART:20190101T000000
END:STANDARD
END:VTIMEZONE
BEGIN:VEVENT
DTSTART;TZID=UTC:20190418T183000
DTEND;TZID=UTC:20190418T200000
DTSTAMP:20260421T015447
CREATED:20190415T053622Z
LAST-MODIFIED:20190415T053622Z
UID:25845-1555612200-1555617600@rigbychurch.com
SUMMARY:Boy Scouts
DESCRIPTION:
URL:https://rigbychurch.com/event/boy-scouts/
LOCATION:AWANA Center\, 3856 E 300 N\, Rigby\, ID\, 83442\, United States
CATEGORIES:Children
END:VEVENT
END:VCALENDAR