BEGIN:VCALENDAR
VERSION:2.0
PRODID:-//Crown of Life - ECPv5.12.2//NONSGML v1.0//EN
CALSCALE:GREGORIAN
METHOD:PUBLISH
X-WR-CALNAME:Crown of Life
X-ORIGINAL-URL:https://rigbychurch.com
X-WR-CALDESC:Events for Crown of Life
BEGIN:VTIMEZONE
TZID:America/Denver
BEGIN:DAYLIGHT
TZOFFSETFROM:-0700
TZOFFSETTO:-0600
TZNAME:MDT
DTSTART:20190310T090000
END:DAYLIGHT
BEGIN:STANDARD
TZOFFSETFROM:-0600
TZOFFSETTO:-0700
TZNAME:MST
DTSTART:20191103T080000
END:STANDARD
END:VTIMEZONE
BEGIN:VEVENT
DTSTART;TZID=America/Denver:20190416T190000
DTEND;TZID=America/Denver:20190416T200000
DTSTAMP:20260421T012107
CREATED:20190415T044653Z
LAST-MODIFIED:20190415T053257Z
UID:25810-1555441200-1555444800@rigbychurch.com
SUMMARY:American Legion Meeting
DESCRIPTION:
URL:https://rigbychurch.com/event/american-legion-meeting/
LOCATION:AWANA Center\, 3856 E 300 N\, Rigby\, ID\, 83442\, United States
CATEGORIES:Community
END:VEVENT
END:VCALENDAR